BEGIN:VCALENDAR
VERSION:2.0
PRODID:-//Tukios.com/
BEGIN:VEVENT
UID:f52916e2-bbe5-4ad2-894d-1ac2c268a096@www.vittstermeranderson.com
DTSTAMP:20260423T223654Z
DTSTART:20260504T130000Z
DTEND:20260504T134500Z
SUMMARY:Visitation
DESCRIPTION:
URL:https://www.vittstermeranderson.com/obituaries/jean-knierim
LOCATION:St. Dominic Church (Gathering Space)  4551 Delhi Road  
	Cincinnati OH 45238
GEO:39.0939003;-84.600472
END:VEVENT
END:VCALENDAR