BEGIN:VCALENDAR
VERSION:2.0
PRODID:-//Tukios.com/
BEGIN:VEVENT
UID:5bf8c7c1-a14b-423f-9ed9-29561253d076@www.vittstermeranderson.com
DTSTAMP:20260423T224053Z
DTSTART:20260504T140000Z
DTEND:20260504T150000Z
SUMMARY:Funeral Service
DESCRIPTION:
URL:https://www.vittstermeranderson.com/obituaries/jean-knierim
LOCATION:St. Dominic Church 4551 Delhi Road  Cincinnati OH 45238
GEO:39.0939003;-84.600472
END:VEVENT
END:VCALENDAR