BEGIN:VCALENDAR
VERSION:2.0
PRODID:-//Tukios.com/
BEGIN:VEVENT
UID:6932ef44-7931-4e43-97e5-c7fc496241bb@www.vittstermeranderson.com
DTSTAMP:20260423T223515Z
DTSTART:20260504
SUMMARY:Burial
DESCRIPTION:
URL:https://www.vittstermeranderson.com/obituaries/jean-knierim
LOCATION: 3819 West 8th Street  Cincinnati OH 45205
GEO:39.1032311;-84.5765886
END:VEVENT
END:VCALENDAR