BEGIN:VCALENDAR
VERSION:2.0
PRODID:-//Tukios.com/
BEGIN:VEVENT
UID:ef4e9486-c812-458c-a4b3-304103e998e1@www.vittstermeranderson.com
DTSTAMP:20260420T154544Z
DTSTART:20260427T150000Z
DTEND:20260427T160000Z
SUMMARY:Celebration of Life
DESCRIPTION:
URL:https://www.vittstermeranderson.com/obituaries/noisha-plasek
LOCATION:Shiloh United Methodist Church 5261 Foley Rd  Cincinnati OH 
	45238
GEO:39.1034421;-84.6161874
END:VEVENT
END:VCALENDAR