BEGIN:VCALENDAR
VERSION:2.0
PRODID:-//Tukios.com/
BEGIN:VEVENT
UID:2cd5e1e3-03f9-4d61-a756-b80da53ff94a@www.vittstermeranderson.com
DTSTAMP:20260422T182220Z
DTSTART:20260427T123000Z
DTEND:20260427T134500Z
SUMMARY:Visitation
DESCRIPTION:
URL:https://www.vittstermeranderson.com/obituaries/ralph-wainscott
LOCATION: 4551 Delhi Road  Cincinnati OH 45238
GEO:39.0939003;-84.600472
END:VEVENT
END:VCALENDAR