BEGIN:VCALENDAR
VERSION:2.0
PRODID:-//Tukios.com/
BEGIN:VEVENT
UID:0502ec88-d5d5-4be9-94d3-502b58a2ceb1@www.vittstermeranderson.com
DTSTAMP:20260422T182920Z
DTSTART:20260427T140000Z
DTEND:20260427T150000Z
SUMMARY:Mass
DESCRIPTION:
URL:https://www.vittstermeranderson.com/obituaries/ralph-wainscott
LOCATION: 4551 Delhi Road  Cincinnati OH 45238
GEO:39.0939003;-84.600472
END:VEVENT
END:VCALENDAR