BEGIN:VCALENDAR
VERSION:2.0
PRODID:-//Tukios.com/
BEGIN:VEVENT
UID:af53b762-f59a-4281-8632-c682968afd4d@www.vittstermeranderson.com
DTSTAMP:20260422T182209Z
DTSTART:20260427T151500Z
DTEND:20260427T161500Z
SUMMARY:Interment
DESCRIPTION:
URL:https://www.vittstermeranderson.com/obituaries/ralph-wainscott
LOCATION: 3819 West 8th Street  Cincinnati OH 45205
GEO:39.1032311;-84.5765886
END:VEVENT
END:VCALENDAR